BEGIN:VCALENDAR
VERSION:2.0
PRODID:gruene-roethlein.de
METHOD:PUBLISH
BEGIN:VTIMEZONE
TZID:Europe/Berlin
X-LIC-LOCATION:Europe/Berlin
BEGIN:DAYLIGHT
TZOFFSETFROM:+0100
TZOFFSETTO:+0200
TZNAME:CEST
DTSTART:19700329T020000
RRULE:FREQ=YEARLY;INTERVAL=1;BYDAY=-1SU;BYMONTH=3
END:DAYLIGHT
BEGIN:STANDARD
TZOFFSETFROM:+0200
TZOFFSETTO:+0100
TZNAME:CET
DTSTART:19701025T030000
RRULE:FREQ=YEARLY;INTERVAL=1;BYDAY=-1SU;BYMONTH=10
END:STANDARD
END:VTIMEZONE
BEGIN:VEVENT
UID:d4390b6ae7ae12cd147aaa09d8504592@gruene-roethlein.de
URL;VALUE=URI:https://gruene-roethlein.de/termine/earth-night-2026/
LOCATION:
SUMMARY:Earth Night 2026
DESCRIPTION;ALTREP="data:text/html,%0A%3Cp%3EAm%C2%A0%3Cstrong%3E11.%20Se
 ptember%202026%C2%A0%3C%2Fstrong%3Eist%20es%20soweit%3A%20die%20n%C3%A4ch
 ste%C2%A0%3Cstrong%3E%3Ca%20href%3D%22https%3A%2F%2Fwww.earth-night.info%
 2F%22%3EEarth%20Night%3C%2Fa%3E%3C%2Fstrong%3E%C2%A0findet%20statt.%3C%2F
 p%3E%0A%0A%0A%0A%3Cp%3E%3Cstrong%3EAb%20Einbruch%20der%20Dunkelheit%3C%2F
 strong%3E%26nbsp%3Bwerden%20Menschen%26nbsp%3B%3Cstrong%3EAu%C3%9Fenlicht
 %20f%C3%BCr%20eine%20ganze%20Nacht%20lang%26nbsp%3B%3C%2Fstrong%3E%3Cstro
 ng%3Ereduzieren%20bzw.%20abschalten%26nbsp%3B%3C%2Fstrong%3Eund%20so%20ei
 n%20Zeichen%26nbsp%3B%3Cstrong%3Egegen%20die%20zunehmende%20Lichtverschmu
 tzung%26nbsp%3B%3C%2Fstrong%3Eund%26nbsp%3B%3Cstrong%3ELichtverschwendung
 %3C%2Fstrong%3E%26nbsp%3Bauf%20der%20Welt%20setzen.%20Denn%20wir%20Mensch
 en%20erhellen%20mit%20immer%20noch%20mehr%20und%20immer%20noch%20hellerem
 %20Licht%20die%20N%C3%A4chte%20auf%20unserem%20Planeten%20und%20das%20sch
 adet%20in%20vielerlei%20Hinsicht%20Umwelt%2C%20Mensch%20und%20Natur%20%E2
 %80%93%20letztlich%20dem%20gesamten%20%C3%96kosystem.%3C%2Fp%3E%0A%0A%0A%
 0A%3Cp%3EMit%20der%20Teilnahme%20an%20der%20Earth%20Night%20soll%20aber%2
 0auch%20zum%20Ausdruck%20gebracht%20werden%2C%20dass%20man%20sich%26nbsp%
 3B%3Cstrong%3Efortan%20um%20einen%20verantwortungsvolleren%20Umgang%3C%2F
 strong%3E%26nbsp%3Bmit%20der%20Ressource%20Au%C3%9Fenlicht%20bem%C3%BCht%
 20und%20so%20die%20Lichtverschmutzung%20merklich%20reduziert%20wird.%3C%2
 Fp%3E%0A%0A%0A%0A%3Cp%3E%3Cstrong%3EMitmachen%20kann%20bei%20der%20Earth%
 20Night%20jeder%21%3C%2Fstrong%3E%3C%2Fp%3E%0A%0A%0A%0A%3Cp%3E%3C%2Fp%3E%
 0A":Am 11. September 2026 ist es soweit: die nächste Earth Night fin
 det statt.\n\nAb Einbruch der Dunkelheit werden Menschen Außenlicht f
 ür eine ganze Nacht lang reduzieren bzw. abschalten und so ein Zeichen
  gegen die zunehmende Lichtverschmutzung und Lichtverschwendung auf d
 er Welt setzen. Denn wir Menschen erhellen mit immer noch mehr und immer 
 noch hellerem Licht die Nächte auf unserem Planeten und das schadet in v
 ielerlei Hinsicht Umwelt\, Mensch und Natur – letztlich dem gesamten Ö
 kosystem.\n\nMit der Teilnahme an der Earth Night soll aber auch zum Ausd
 ruck gebracht werden\, dass man sich fortan um einen verantwortungsvolle
 ren Umgang mit der Ressource Außenlicht bemüht und so die Lichtverschm
 utzung merklich reduziert wird.\n\nMitmachen kann bei der Earth Night jed
 er!
CLASS:PUBLIC
DTSTART;TZID=Europe/Berlin:20260911
DTEND;TZID=Europe/Berlin:20260912
DTSTAMP:20260425T184504
END:VEVENT
END:VCALENDAR